BEGIN:VCALENDAR
VERSION:2.0
PRODID:-//eventon.com NONSGML v1.0//EN
CALSCALE:GREGORIAN
METHOD:PUBLISH
BEGIN:VEVENT
UID:69ea3e38e9fc0
DTSTAMP:20260423T094352
DTSTART:20260325T190000Z
DTEND:20260325T200000Z
TZID:America/Mexico_City
LOCATION:
SUMMARY:Zacatecas Cartografía del Asombro entre la tierra y el cosmos
DESCRIPTION:Zacatecas Cartografía del Asombro entre la tierra y el cosmos\nhttps://culturazac.gob.mx/eventos/zacatecas-cartografia-del-asombro-entre-la-tierra-y-el-cosmos-fcz-2026/
URL:https://culturazac.gob.mx/eventos/zacatecas-cartografia-del-asombro-entre-la-tierra-y-el-cosmos-fcz-2026/
END:VEVENT
END:VCALENDAR