BEGIN:VCALENDAR
VERSION:2.0
PRODID:-//eventon.com NONSGML v1.0//EN
CALSCALE:GREGORIAN
METHOD:PUBLISH
BEGIN:VEVENT
UID:69e74aa13c50d
DTSTAMP:20260421T040001
DTSTART:20260406T180000Z
DTEND:20260406T190000Z
TZID:America/Mexico_City
LOCATION:
SUMMARY:Edith Pageaud
DESCRIPTION:Edith Pageaud\nhttps://culturazac.gob.mx/eventos/edith-pageaud-fcz-2026/
URL:https://culturazac.gob.mx/eventos/edith-pageaud-fcz-2026/
END:VEVENT
END:VCALENDAR